BEGIN:VCALENDAR
VERSION:2.0
PRODID:-//Idaho Academy Of Family Physicians - ECPv6.0.12//NONSGML v1.0//EN
CALSCALE:GREGORIAN
METHOD:PUBLISH
X-WR-CALNAME:Idaho Academy Of Family Physicians
X-ORIGINAL-URL:https://idahofamilyphysicians.org
X-WR-CALDESC:Events for Idaho Academy Of Family Physicians
REFRESH-INTERVAL;VALUE=DURATION:PT1H
X-Robots-Tag:noindex
X-PUBLISHED-TTL:PT1H
BEGIN:VTIMEZONE
TZID:America/Denver
BEGIN:DAYLIGHT
TZOFFSETFROM:-0700
TZOFFSETTO:-0600
TZNAME:MDT
DTSTART:20210314T090000
END:DAYLIGHT
BEGIN:STANDARD
TZOFFSETFROM:-0600
TZOFFSETTO:-0700
TZNAME:MST
DTSTART:20211107T080000
END:STANDARD
BEGIN:DAYLIGHT
TZOFFSETFROM:-0700
TZOFFSETTO:-0600
TZNAME:MDT
DTSTART:20220313T090000
END:DAYLIGHT
BEGIN:STANDARD
TZOFFSETFROM:-0600
TZOFFSETTO:-0700
TZNAME:MST
DTSTART:20221106T080000
END:STANDARD
BEGIN:DAYLIGHT
TZOFFSETFROM:-0700
TZOFFSETTO:-0600
TZNAME:MDT
DTSTART:20230312T090000
END:DAYLIGHT
BEGIN:STANDARD
TZOFFSETFROM:-0600
TZOFFSETTO:-0700
TZNAME:MST
DTSTART:20231105T080000
END:STANDARD
END:VTIMEZONE
BEGIN:VEVENT
DTSTART;TZID=America/Denver:20230921T180000
DTEND;TZID=America/Denver:20230921T190000
DTSTAMP:20260422T162301
CREATED:20230710T163957Z
LAST-MODIFIED:20230710T163957Z
UID:8852-1695319200-1695322800@idahofamilyphysicians.org
SUMMARY:IAFP Summer/Fall CME – September: "Alzheimer's in Primary Care"
DESCRIPTION:Join us for the IAFP Summer/Fall CME. Please Register in advance for this meeting:\nhttps://us02web.zoom.us/meeting/register/tZUoceGgpz0sGd0pXE–Y4lOQdXRjWvCEG6y
URL:https://idahofamilyphysicians.org/event/iafp-summer-fall-cme-september-alzheimers-in-primary-care/
LOCATION:Virtual
END:VEVENT
BEGIN:VEVENT
DTSTART;TZID=America/Denver:20230911T123000
DTEND;TZID=America/Denver:20230911T133000
DTSTAMP:20260422T162301
CREATED:20230104T042625Z
LAST-MODIFIED:20230109T160722Z
UID:8544-1694435400-1694439000@idahofamilyphysicians.org
SUMMARY:IAFP September Grand Rounds
DESCRIPTION:Featuring a Presentation from an Idaho Family Medicine Program – More info TBA \nThe IAFP is hosting a virtual monthly Grand Rounds Series featuring presentations from six of Idaho’s Family Medicine Residency programs. Each month\, a resident or faculty member from one of these programs will present on a clinical topic of interest to all family physicians. Each presentation will last one hour. \nThis event occurs on the second Monday of the month at 11:30 am PT/12:30 pm MT and lasts for one hour. \nHere is the Zoom meeting link: https://us02web.zoom.us/j/82026910640?pwd=RlpMV0k4b0N4ZUxSODZ2NXNUdHMrdz09.
URL:https://idahofamilyphysicians.org/event/iafp-september-grand-rounds/
LOCATION:Virtual
END:VEVENT
BEGIN:VEVENT
DTSTART;TZID=America/Denver:20230824T180000
DTEND;TZID=America/Denver:20230824T190000
DTSTAMP:20260422T162301
CREATED:20230718T182858Z
LAST-MODIFIED:20230718T182858Z
UID:8861-1692900000-1692903600@idahofamilyphysicians.org
SUMMARY:IAFP Summer/Fall CME – August: "The Gun Violence Epidemic:  What the family physician needs to know about this public health crisis"
DESCRIPTION:Join us for the IAFP Summer/Fall CME. Please Register in advance for this meeting:\nhttps://us02web.zoom.us/meeting/register/tZ0ldeihrzgjE9MpM5mQ9Sse1wRUu3lmXNq5
URL:https://idahofamilyphysicians.org/event/iafp-summer-fall-cme-august-the-gun-violence-epidemic-what-the-family-physician-needs-to-know-about-this-public-health-crisis/
LOCATION:Virtual
END:VEVENT
BEGIN:VEVENT
DTSTART;TZID=America/Denver:20230814T123000
DTEND;TZID=America/Denver:20230814T133000
DTSTAMP:20260422T162301
CREATED:20230104T042539Z
LAST-MODIFIED:20230810T162931Z
UID:8542-1692016200-1692019800@idahofamilyphysicians.org
SUMMARY:IAFP August Grand Rounds: Migraine Management
DESCRIPTION:Migraine Management with Jake Allinson\, DO\, PGY-2 Family Medicine – Eastern Idaho Regional Medical Center \nLearning objectives: \n\nDefinition of migraine\nDiagnostic criteria of migraine\nKnowing when to treat with abortive medication vs prophylactically\nKnowing the options and adjuvants for migraine treatment\n\nThe IAFP is hosting a virtual monthly Grand Rounds Series featuring presentations from six of Idaho’s Family Medicine Residency programs. Each month\, a resident or faculty member from one of these programs will present on a clinical topic of interest to all family physicians. Each presentation will last one hour. \nThis event occurs on the second Monday of the month at 11:30 am PT/12:30 pm MT and lasts for one hour. \nHere is the Zoom meeting link: https://us02web.zoom.us/j/82026910640?pwd=RlpMV0k4b0N4ZUxSODZ2NXNUdHMrdz09.
URL:https://idahofamilyphysicians.org/event/iafp-august-grand-rounds/
LOCATION:Virtual
END:VEVENT
BEGIN:VEVENT
DTSTART;TZID=America/Denver:20230727T180000
DTEND;TZID=America/Denver:20230727T190000
DTSTAMP:20260422T162301
CREATED:20230710T163338Z
LAST-MODIFIED:20230710T163507Z
UID:8849-1690480800-1690484400@idahofamilyphysicians.org
SUMMARY:IAFP Summer/Fall CME - July: "Cultivating Resilience: Why Lifestyle is the BEST Medicine"
DESCRIPTION:Join us for the IAFP Summer/Fall CME Please Register in advance for this meeting:\nhttps://us02web.zoom.us/meeting/register/tZYsf-msqT0rGtG0wVinqY-UoSXFHTYwK9Ym
URL:https://idahofamilyphysicians.org/event/iafp-summer-fall-cme-july-cultivating-resilience-why-lifestyle-is-the-best-medicine/
LOCATION:Virtual
END:VEVENT
BEGIN:VEVENT
DTSTART;TZID=America/Denver:20230719T121500
DTEND;TZID=America/Denver:20230719T131500
DTSTAMP:20260422T162301
CREATED:20230615T180829Z
LAST-MODIFIED:20230616T173301Z
UID:8824-1689768900-1689772500@idahofamilyphysicians.org
SUMMARY:IMA Education Webinar Series
DESCRIPTION:IMA Education Webinar Series with special guest speaker Day Egusquiza with AR Systems\, Inc.  This webinar features “Understanding the Facility ER E&M Leveling System.” Visit https://www.idmed.org/idaho/Idaho_Public/Events%20List/Seminars/Idaho_Public/Resources/Seminars.aspx?hkey=369d6433-4a3f-43a8-81d3-841e7e647cf5 for more information.
URL:https://idahofamilyphysicians.org/event/ima-education-webinar-series/
LOCATION:Virtual
END:VEVENT
BEGIN:VEVENT
DTSTART;TZID=America/Denver:20230718T073000
DTEND;TZID=America/Denver:20230718T083000
DTSTAMP:20260422T162301
CREATED:20230104T042025Z
LAST-MODIFIED:20230109T163831Z
UID:8533-1689665400-1689669000@idahofamilyphysicians.org
SUMMARY:IAFP Co-Sponsored Quarterly Grand Rounds: July
DESCRIPTION:Topic and speaker TBA \nIAFP is co-sponsoring live quarterly Grand Rounds in the Mini-Cassia area of Idaho. This is a free event. No registration necessary. Contact would be Tammy Day at tamday@minidokamemorial.com or 208.436.8135 for more information.
URL:https://idahofamilyphysicians.org/event/iafp-co-sponsored-quarterly-grand-rounds-july/
END:VEVENT
BEGIN:VEVENT
DTSTART;TZID=America/Denver:20230710T123000
DTEND;TZID=America/Denver:20230710T133000
DTSTAMP:20260422T162301
CREATED:20230104T042449Z
LAST-MODIFIED:20230630T155927Z
UID:8540-1688992200-1688995800@idahofamilyphysicians.org
SUMMARY:IAFP July Grand Rounds - Aging and Preventative Care for Adults with Down Syndrome
DESCRIPTION:Featuring a presentation from Tyler McChane\, MD\, FCH Boise\, on Aging and Preventative Care for Adults with Down Syndrome. \nLEARNING OBJECTIVES​ \n\nUpdate on current literature around prevalence\, morbidity\, and specific preventative health topics for adults with Down Syndrom​e\nReview of clinical guidelines and best practices for family physicians caring for adults with Down Syndrome\n\nThe IAFP is hosting a virtual monthly Grand Rounds Series featuring presentations from six of Idaho’s Family Medicine Residency programs. Each month\, a resident or faculty member from one of these programs will present on a clinical topic of interest to all family physicians. Each presentation will last one hour. \nThis event occurs on the second Monday of the month at 11:30 am PT/12:30 pm MT and lasts for one hour. \nHere is the Zoom meeting link: https://us02web.zoom.us/j/82026910640?pwd=RlpMV0k4b0N4ZUxSODZ2NXNUdHMrdz09.
URL:https://idahofamilyphysicians.org/event/iafp-july-grand-rounds/
LOCATION:Virtual
END:VEVENT
BEGIN:VEVENT
DTSTART;TZID=America/Denver:20230612T123000
DTEND;TZID=America/Denver:20230612T133000
DTSTAMP:20260422T162301
CREATED:20230104T042354Z
LAST-MODIFIED:20230605T160506Z
UID:8537-1686573000-1686576600@idahofamilyphysicians.org
SUMMARY:IAFP June Grand Rounds: Dermoscopy for the Family Medicine Doctor
DESCRIPTION:Featuring a Presentation from the FCH Nampa program with Dr. Rory Hawker on Dermoscopy for the Family Medicine Doctor \n  \nThe IAFP is hosting a virtual monthly Grand Rounds Series featuring presentations from six of Idaho’s Family Medicine Residency programs. Each month\, a resident or faculty member from one of these programs will present on a clinical topic of interest to all family physicians. Each presentation will last one hour. \nThis event occurs on the second Monday of the month at 11:30 am PT/12:30 pm MT and lasts for one hour. \nHere is the Zoom meeting link: https://us02web.zoom.us/j/82026910640?pwd=RlpMV0k4b0N4ZUxSODZ2NXNUdHMrdz09.
URL:https://idahofamilyphysicians.org/event/iafp-june-grand-rounds/
LOCATION:Virtual
END:VEVENT
BEGIN:VEVENT
DTSTART;TZID=America/Denver:20230508T123000
DTEND;TZID=America/Denver:20230508T133000
DTSTAMP:20260422T162301
CREATED:20230104T040855Z
LAST-MODIFIED:20230328T022009Z
UID:8523-1683549000-1683552600@idahofamilyphysicians.org
SUMMARY:IAFP May Grand Rounds: Physician Lift Thyself: The Importance of Resistance Training for the Primary Care Provider
DESCRIPTION:Featuring a Presentation from an Idaho Family Medicine Program on Physician Lift Thyself: The Importance of Resistance Training for the Primary Care Provider \nThe IAFP is hosting a virtual monthly Grand Rounds Series featuring presentations from six of Idaho’s Family Medicine Residency programs. Each month\, a resident or faculty member from one of these programs will present on a clinical topic of interest to all family physicians. Each presentation will last one hour. \nThis event occurs on the second Monday of the month at 11:30 am PT/12:30 pm MT and lasts for one hour. \nHere is the Zoom meeting link: https://us02web.zoom.us/j/82026910640?pwd=RlpMV0k4b0N4ZUxSODZ2NXNUdHMrdz09.
URL:https://idahofamilyphysicians.org/event/iafp-may-grand-rounds/
LOCATION:Virtual
END:VEVENT
BEGIN:VEVENT
DTSTART;TZID=America/Denver:20230505T080000
DTEND;TZID=America/Denver:20230506T170000
DTSTAMP:20260422T162301
CREATED:20220921T205156Z
LAST-MODIFIED:20230104T034256Z
UID:8452-1683273600-1683392400@idahofamilyphysicians.org
SUMMARY:IAFP 2023 Annual Conference\, Shore Lodge\, McCall\, ID
DESCRIPTION:Register before February 28 for early bird rates!
URL:https://idahofamilyphysicians.org/event/iafp-2023-annual-conference/
LOCATION:Shore Lodge in McCall\, Idaho\, 501 W Lake Street\, McCall\, ID\, 83638\, United States
END:VEVENT
BEGIN:VEVENT
DTSTART;TZID=America/Denver:20230504T073000
DTEND;TZID=America/Denver:20230504T083000
DTSTAMP:20260422T162301
CREATED:20230104T041842Z
LAST-MODIFIED:20230428T233506Z
UID:8531-1683185400-1683189000@idahofamilyphysicians.org
SUMMARY:IAFP Co-Sponsored Quarterly Grand Rounds: Anaphylaxis Update
DESCRIPTION:Dr. Tyler Dschaak\, EM – Anaphylaxis Update \nCassia Regional Hospital in the conference room. \nIAFP is co-sponsoring live quarterly Grand Rounds in the Mini-Cassia area of Idaho. This is a free event. No registration necessary. Contact would be Tammy Day at tamday@minidokamemorial.com or 208.436.8135 for more information.
URL:https://idahofamilyphysicians.org/event/iafp-co-sponsored-quarterly-grand-rounds-anaphylaxis-update/
LOCATION:Cassia Regional Hospital\, 1501 Hiland Ave\, Burley\, ID\, 83318\, United States
END:VEVENT
BEGIN:VEVENT
DTSTART;TZID=America/Denver:20230410T123000
DTEND;TZID=America/Denver:20230410T133000
DTSTAMP:20260422T162301
CREATED:20230104T040707Z
LAST-MODIFIED:20230328T021606Z
UID:8521-1681129800-1681133400@idahofamilyphysicians.org
SUMMARY:IAFP April Grand Rounds: Irritable Bowel Syndrome: A Review of History\, Pathogenesis\, and Effective Treatments
DESCRIPTION:Featuring a Presentation from Kootenai Health on Irritable Bowel Syndrome: A Review of History\, Pathogenesis\, and Effective Treatments with Dr. Cameron Jones \nLearning objectives: \n\nUnderstand the diagnostic criteria for IBS (irritable bowel syndrome) and associated terminology\nLearn different theories behind the pathogenesis of IBS\nAppreciate the different options for evidence-based treatment of IBS\nDevelop an approach to evaluation and treatment of a patient with suspected IBS\n\nThe IAFP is hosting a virtual monthly Grand Rounds Series featuring presentations from six of Idaho’s Family Medicine Residency programs. Each month\, a resident or faculty member from one of these programs will present on a clinical topic of interest to all family physicians. Each presentation will last one hour. \nThis event occurs on the second Monday of the month at 11:30 am PT/12:30 pm MT and lasts for one hour. \nHere is the Zoom meeting link: https://us02web.zoom.us/j/82026910640?pwd=RlpMV0k4b0N4ZUxSODZ2NXNUdHMrdz09.
URL:https://idahofamilyphysicians.org/event/iafp-april-grand-rounds/
LOCATION:Virtual
END:VEVENT
BEGIN:VEVENT
DTSTART;TZID=America/Denver:20230313T123000
DTEND;TZID=America/Denver:20230313T133000
DTSTAMP:20260422T162301
CREATED:20230104T040557Z
LAST-MODIFIED:20230221T221804Z
UID:8519-1678710600-1678714200@idahofamilyphysicians.org
SUMMARY:IAFP March Grand Rounds: The Canal Street Avalanche
DESCRIPTION:“The Canal Street Avalanche” presented by Dr. Weihnold at ISU. \nThe IAFP is hosting a virtual monthly Grand Rounds Series featuring presentations from six of Idaho’s Family Medicine Residency programs. Each month\, a resident or faculty member from one of these programs will present on a clinical topic of interest to all family physicians. Each presentation will last one hour. \nThis event occurs on the second Monday of the month at 11:30 am PT/12:30 pm MT and lasts for one hour. \nHere is the Zoom meeting link: https://us02web.zoom.us/j/82026910640?pwd=RlpMV0k4b0N4ZUxSODZ2NXNUdHMrdz09.
URL:https://idahofamilyphysicians.org/event/iafp-march-grand-rounds/
LOCATION:Virtual
END:VEVENT
BEGIN:VEVENT
DTSTART;TZID=America/Denver:20230213T123000
DTEND;TZID=America/Denver:20230213T133000
DTSTAMP:20260422T162301
CREATED:20230104T040016Z
LAST-MODIFIED:20230109T160906Z
UID:8517-1676291400-1676295000@idahofamilyphysicians.org
SUMMARY:IAFP February Grand Rounds
DESCRIPTION:Featuring a Presentation from an Idaho Family Medicine Program – More info TBA \nThe IAFP is hosting a virtual monthly Grand Rounds Series featuring presentations from six of Idaho’s Family Medicine Residency programs. Each month\, a resident or faculty member from one of these programs will present on a clinical topic of interest to all family physicians. Each presentation will last one hour. \nThis event occurs on the second Monday of the month at 11:30 am PT/12:30 pm MT and lasts for one hour. \nHere is the Zoom meeting link: https://us02web.zoom.us/j/82026910640?pwd=RlpMV0k4b0N4ZUxSODZ2NXNUdHMrdz09.
URL:https://idahofamilyphysicians.org/event/iafp-february-grand-rounds/
END:VEVENT
BEGIN:VEVENT
DTSTART;TZID=America/Denver:20230117T073000
DTEND;TZID=America/Denver:20230117T083000
DTSTAMP:20260422T162301
CREATED:20230104T041448Z
LAST-MODIFIED:20230501T213258Z
UID:8525-1673940600-1673944200@idahofamilyphysicians.org
SUMMARY:IAFP Co-Sponsored Quarterly Grand Rounds: ENT Updates
DESCRIPTION:Dr. Chase Nelson\, ENT – ENT Updates \nMinidoka Memorial Hospital in the conference room. \nIAFP is co-sponsoring live quarterly Grand Rounds in the Mini-Cassia area of Idaho. This is a free event. No registration necessary. Contact would be Tammy Day at tamday@minidokamemorial.com or 208.436.8135 for more information.
URL:https://idahofamilyphysicians.org/event/iafp-co-sponsored-quarterly-grand-rounds-ent-updates/
LOCATION:Minidoka Memorial Hospital\, 1224 Eighth St\,\, Rupert\, ID\, 83350\, United States
END:VEVENT
BEGIN:VEVENT
DTSTART;TZID=America/Denver:20230109T123000
DTEND;TZID=America/Denver:20230109T133000
DTSTAMP:20260422T162301
CREATED:20230104T034833Z
LAST-MODIFIED:20230109T160922Z
UID:8513-1673267400-1673271000@idahofamilyphysicians.org
SUMMARY:IAFP January Grand Rounds: Adjunctive Weight Management Medications
DESCRIPTION:“Adjunctive Weight Management Medications” presented by Ryan Sauther\, MD\, and Bradley Roth\, MD\, from Eastern Idaho Regional Medical Center Program. \nThe IAFP is hosting a virtual monthly Grand Rounds Series featuring presentations from six of Idaho’s Family Medicine Residency programs. Each month\, a resident or faculty member from one of these programs will present on a clinical topic of interest to all family physicians. Each presentation will last one hour. \nThis event occurs on the second Monday of the month at 11:30 am PT/12:30 pm MT and lasts for one hour. \nHere is the Zoom meeting link: https://us02web.zoom.us/j/82026910640?pwd=RlpMV0k4b0N4ZUxSODZ2NXNUdHMrdz09.
URL:https://idahofamilyphysicians.org/event/monthly-grand-rounds-adjunctive-weight-management-medications/
LOCATION:Virtual
END:VEVENT
BEGIN:VEVENT
DTSTART;TZID=America/Denver:20221027T180000
DTEND;TZID=America/Denver:20221027T190000
DTSTAMP:20260422T162301
CREATED:20220921T205022Z
LAST-MODIFIED:20220921T205022Z
UID:8450-1666893600-1666897200@idahofamilyphysicians.org
SUMMARY:Fall CME: Gender Affirming Care
DESCRIPTION:
URL:https://idahofamilyphysicians.org/event/fall-cme-gender-affirming-care/
END:VEVENT
BEGIN:VEVENT
DTSTART;TZID=America/Denver:20220923T123000
DTEND;TZID=America/Denver:20220923T133000
DTSTAMP:20260422T162301
CREATED:20220921T204826Z
LAST-MODIFIED:20220921T204849Z
UID:8447-1663936200-1663939800@idahofamilyphysicians.org
SUMMARY:Summer/Fall CME: Self-Managed Abortion and the Law
DESCRIPTION:
URL:https://idahofamilyphysicians.org/event/self-managed-abortion-and-the-law/
END:VEVENT
BEGIN:VEVENT
DTSTART;TZID=America/Denver:20220922T180000
DTEND;TZID=America/Denver:20220922T190000
DTSTAMP:20260422T162301
CREATED:20220624T222253Z
LAST-MODIFIED:20220624T222253Z
UID:8382-1663869600-1663873200@idahofamilyphysicians.org
SUMMARY:Summer/Fall CME: Adult OSA: Updates for Effective Evaluation and Management
DESCRIPTION:
URL:https://idahofamilyphysicians.org/event/summer-fall-cme-adult-osa-updates-for-effective-evaluation-and-management/
END:VEVENT
BEGIN:VEVENT
DTSTART;TZID=America/Denver:20220825T180000
DTEND;TZID=America/Denver:20220825T190000
DTSTAMP:20260422T162301
CREATED:20220624T221226Z
LAST-MODIFIED:20220627T201054Z
UID:8379-1661450400-1661454000@idahofamilyphysicians.org
SUMMARY:Summer/Fall CME--Barrier-Free Health Care: Best Practices for Providing Medical Care For Individuals Who Have A Disability
DESCRIPTION:
URL:https://idahofamilyphysicians.org/event/summer-fall-cme-treating-patients-with-disabilities/
END:VEVENT
BEGIN:VEVENT
DTSTART;TZID=America/Denver:20220714T180000
DTEND;TZID=America/Denver:20220714T190000
DTSTAMP:20260422T162301
CREATED:20220622T222310Z
LAST-MODIFIED:20220622T222310Z
UID:8365-1657821600-1657825200@idahofamilyphysicians.org
SUMMARY:Summer/Fall CME--Emergency Contraception with Dr. Loren Colson
DESCRIPTION:
URL:https://idahofamilyphysicians.org/event/summer-fall-cme-emergency-contraception-with-dr-loren-colson/
END:VEVENT
BEGIN:VEVENT
DTSTART;TZID=America/Denver:20220711T123000
DTEND;TZID=America/Denver:20220711T133000
DTSTAMP:20260422T162301
CREATED:20220622T221942Z
LAST-MODIFIED:20220622T221942Z
UID:8363-1657542600-1657546200@idahofamilyphysicians.org
SUMMARY:IAFP July Grand Rounds CME--Female Sexual Dysfunction with Dr. Lauren Hanlon
DESCRIPTION:
URL:https://idahofamilyphysicians.org/event/iafp-july-grand-rounds-cme-female-sexual-dysfunction-with-dr-lauren-hanlon/
END:VEVENT
BEGIN:VEVENT
DTSTART;VALUE=DATE:20220506
DTEND;VALUE=DATE:20220508
DTSTAMP:20260422T162301
CREATED:20210820T213502Z
LAST-MODIFIED:20210820T213502Z
UID:7977-1651795200-1651967999@idahofamilyphysicians.org
SUMMARY:IAFP Annual Conference 2022
DESCRIPTION:The IAFP Annual Conference is scheduled to take place at the Sun Valley Resort May 6-7\, 2022.  Stay tuned for registration information at the end of October.
URL:https://idahofamilyphysicians.org/event/iafp-annual-conference-2022-2/
LOCATION:Sun Valley Resort\, 1 Sun Valley Rd\, 1 Sun Valley Rd\, Sun Valley\, ID\, 83353\, United States
END:VEVENT
BEGIN:VEVENT
DTSTART;TZID=America/Denver:20220214T123000
DTEND;TZID=America/Denver:20220214T133000
DTSTAMP:20260422T162301
CREATED:20211215T204931Z
LAST-MODIFIED:20211215T204931Z
UID:8062-1644841800-1644845400@idahofamilyphysicians.org
SUMMARY:IAFP 2022 Virtual Grand Rounds--Featuring Idaho's Family Medicine Residency Programs
DESCRIPTION:The IAFP is hosting a virtual monthly Grand Rounds Series featuring presentations from six of Idaho’s Family Medicine Residency programs. Each month\, a resident or faculty member from one of these programs will present on a clinical topic of interest to all family physicians. Each presentation will last one hour. \nIAFP 2022 Grand Rounds Series\nThis event occurs on the second Monday of the month at 11:30 am PT/12:30 pm MT and lasts for one hour. \nPlease email Liz Woodruff at Liz@idahoafp.org for the virtual link to the event. \nFebruary 14\, 2022–Idaho State University \nMarch 14\, 2022–Kootenai Health \nApril 11\, 2022–FMRI Magic Valley \nMay 9\, 2022–FMRI Nampa \nJune 13\, 2022–FMRI Boise \nJuly 11\, 2022–EIRMC \nAugust 8\, 2022–Idaho State University \nSeptember 12\, 2022–Kootenai Health \nOctober 10\, 2022–FMRI Magic Valley \nNovember 14\, 2022–FMRI Nampa \nDecember 12\, 2022–FMRI Boise \nJanuary 9\, 2023–EIRMC
URL:https://idahofamilyphysicians.org/event/iafp-2022-virtual-grand-rounds-featuring-idahos-family-medicine-residency-programs/
END:VEVENT
BEGIN:VEVENT
DTSTART;VALUE=DATE:20211001
DTEND;VALUE=DATE:20211002
DTSTAMP:20260422T162301
CREATED:20210820T213027Z
LAST-MODIFIED:20210916T163114Z
UID:7974-1633046400-1633132799@idahofamilyphysicians.org
SUMMARY:CANCELED--IAFP Breakfast at IMA Annual Meeting
DESCRIPTION:The IMA Annual Meeting is going virtual for one-day only on October 1\, 2021. No IAFP Breakfast will occur. Find out more about the IMA event here. 
URL:https://idahofamilyphysicians.org/event/iafp-breakfast-at-ima-annual-meeting/
END:VEVENT
BEGIN:VEVENT
DTSTART;TZID=America/Denver:20210916T180000
DTEND;TZID=America/Denver:20210916T190000
DTSTAMP:20260422T162301
CREATED:20210628T225903Z
LAST-MODIFIED:20210628T225947Z
UID:7953-1631815200-1631818800@idahofamilyphysicians.org
SUMMARY:CME Webinar: Major Depressive Disorder in Chronic Kidney Disease
DESCRIPTION:Join us for this CME Webinar with Dr. Laura Frank of Otsuka. This event is free\, but pre-registration is required. Participation in this webinar will result in 1 CME. Approval is pending with the AAFP. \nPre-register for the event here. \nLearning Objectives:\n• Overview of Major Depressive Disorder (MDD) and Chronic Kidney Disease (CKD)/End Stage Renal Disease (ESRD).\n• Discuss the high prevalence of depression in patients with CKD.\n• Discuss how overlap of symptomatology between MDD and CKD makes diagnosing depression in the setting of CKD challenging.\n• Discuss the association of MDD with poor outcomes in CKD.\n• Discuss potential risk factors and mechanism of MDD in CKD.\n• Discuss the cycle between MDD and ESRD.\n• Address challenges in MDD management considerations in CKD patients. \nSpeaker Bio\nDr. Laura Frank\, PhD\, MPH\, RDN\, CD\nDr. Frank has a Dr. Frank has a PhD in Exercise Physiology & Health Promotion\, a MPH in Public Health in Epidemiology\, a MEd in Nutrition & Dietetics\, and a BS in Nutrition & Molecular Biology. She has spent her career studying and implementing the importance of lifestyle management for the prevention or treatment of chronic diseases. As a Registered Dietitian Nutritionist (RDN)\, she has worked in the inpatient and outpatient settings. She also has a strong academic background with over 12 years’ experience in teaching graduate and/or undergraduate studies\, 11 years’ experience as a clinical preceptor\, and 8 years’ experience as Director of Clinical Sites for the Coordinated Program in Dietetics for the Washington State University. She is currently a Medical Science Liaison with Otsuka Pharmaceutical Development and Commercialization within the PNW territory.
URL:https://idahofamilyphysicians.org/event/cme-webinar-major-depressive-disorder-in-chronic-kidney-disease/
END:VEVENT
BEGIN:VEVENT
DTSTART;VALUE=DATE:20210910
DTEND;VALUE=DATE:20210912
DTSTAMP:20260422T162301
CREATED:20210607T223842Z
LAST-MODIFIED:20210607T224508Z
UID:7937-1631232000-1631404799@idahofamilyphysicians.org
SUMMARY:IAFP September Board Meeting
DESCRIPTION:If you are interested in observing an IAFP Board Meeting\, contact liz@idahoafp.org
URL:https://idahofamilyphysicians.org/event/iafp-september-board-meeting/
END:VEVENT
BEGIN:VEVENT
DTSTART;TZID=America/Denver:20210812T180000
DTEND;TZID=America/Denver:20210812T190000
DTSTAMP:20260422T162301
CREATED:20210607T223250Z
LAST-MODIFIED:20210628T230053Z
UID:7935-1628791200-1628794800@idahofamilyphysicians.org
SUMMARY:CME Webinar: Health Issues for Indigenous People--Coeur d'Alene Tribe
DESCRIPTION:Join us for this CME Webinar with Peter Mahoney of the Coeur d’Alene Tribe. This event is free\, but pre-registration is required. Participation in this webinar will result in1 CME. \nPre-register here: https://us02web.zoom.us/meeting/register/tZIqdu6sqT8oG9EoRMBnli9AtuG0wdWa0A6O \nLearning Concepts:\n– The lay of the land before the invisible lines ( Idaho and surrounding areas pre-contact)\n– Brief health-related history of the Coeur d’ Alene Tribe\n– health issues for indigenous people \nPeter Mahoney is an enrolled member of the Coeur d’ Alene Tribe of North Idaho. He received an Associates degree from Haskell Indian Nations University in 2012 in the field of Exercise Science with and emphasis in recreation management. He received his Bachelors degree from the University of Idaho for General Studies in 2020. For the past seven years he has worked for the Coeur d’ Alene tribe in the fields of diabetes prevention\, infusing Coeur d’ Alene culture into community health\, and in cultural resource protection. \nThe AAFP has reviewed Health Issues for Indigenous People–Coeur d’Alene Tribe and deemed it acceptable for up to 1.00 Online Only\, Live AAFP Prescribed credit. Term of Approval is from 08/12/2021 to 08/12/2021. Physicians should claim only the credit commensurate with the extent of their participation in the activity.
URL:https://idahofamilyphysicians.org/event/cme-webinar-health-issues-for-indigenous-people-coeur-dalene-tribe/
END:VEVENT
BEGIN:VEVENT
DTSTART;TZID=America/Denver:20210710T080000
DTEND;TZID=America/Denver:20210710T120000
DTSTAMP:20260422T162301
CREATED:20210607T222601Z
LAST-MODIFIED:20210607T222642Z
UID:7931-1625904000-1625918400@idahofamilyphysicians.org
SUMMARY:Virtual KSA: Care of Children with Dr. Keith Davis
DESCRIPTION:This event is free\, but pre-registration is required by July 7\, 2021: https://us02web.zoom.us/meeting/register/tZMldeuvqjIpH9BP2yLnLRr9AxN_0HJyHVbv
URL:https://idahofamilyphysicians.org/event/virtual-ksa-care-of-children-with-dr-keith-davis/
END:VEVENT
END:VCALENDAR